BEGIN:VCALENDAR
VERSION:2.0
PRODID:-//Whitehorse, Yukon - Web Hosting and Web Site Design - ECPv6.15.20//NONSGML v1.0//EN
CALSCALE:GREGORIAN
METHOD:PUBLISH
X-WR-CALNAME:Whitehorse, Yukon - Web Hosting and Web Site Design
X-ORIGINAL-URL:https://yukonhost.com
X-WR-CALDESC:Events for Whitehorse, Yukon - Web Hosting and Web Site Design
REFRESH-INTERVAL;VALUE=DURATION:PT1H
X-Robots-Tag:noindex
X-PUBLISHED-TTL:PT1H
BEGIN:VTIMEZONE
TZID:America/Whitehorse
BEGIN:STANDARD
TZOFFSETFROM:-0700
TZOFFSETTO:-0700
TZNAME:MST
DTSTART:20230101T000000
END:STANDARD
END:VTIMEZONE
BEGIN:VEVENT
DTSTART;TZID=America/Whitehorse:20240622T080000
DTEND;TZID=America/Whitehorse:20240622T103000
DTSTAMP:20260419T164813
CREATED:20240227T232056Z
LAST-MODIFIED:20240227T232056Z
UID:10000046-1719043200-1719052200@yukonhost.com
SUMMARY:WHITE PASS SUMMIT EXCURSION
DESCRIPTION:
URL:https://yukonhost.com/event/white-pass-summit-excursion/2024-06-22/
LOCATION:Skagway depot\, 201 2nd Avenue\, Skagway\, AK\, 99840\, United States
END:VEVENT
BEGIN:VEVENT
DTSTART;TZID=America/Whitehorse:20240621T080000
DTEND;TZID=America/Whitehorse:20240621T103000
DTSTAMP:20260419T164813
CREATED:20240227T232056Z
LAST-MODIFIED:20240227T232056Z
UID:10000045-1718956800-1718965800@yukonhost.com
SUMMARY:WHITE PASS SUMMIT EXCURSION
DESCRIPTION:
URL:https://yukonhost.com/event/white-pass-summit-excursion/2024-06-21/
LOCATION:Skagway depot\, 201 2nd Avenue\, Skagway\, AK\, 99840\, United States
END:VEVENT
BEGIN:VEVENT
DTSTART;TZID=America/Whitehorse:20240620T080000
DTEND;TZID=America/Whitehorse:20240620T103000
DTSTAMP:20260419T164813
CREATED:20240227T232056Z
LAST-MODIFIED:20240227T232056Z
UID:10000044-1718870400-1718879400@yukonhost.com
SUMMARY:WHITE PASS SUMMIT EXCURSION
DESCRIPTION:
URL:https://yukonhost.com/event/white-pass-summit-excursion/2024-06-20/
LOCATION:Skagway depot\, 201 2nd Avenue\, Skagway\, AK\, 99840\, United States
END:VEVENT
BEGIN:VEVENT
DTSTART;TZID=America/Whitehorse:20240619T080000
DTEND;TZID=America/Whitehorse:20240619T103000
DTSTAMP:20260419T164813
CREATED:20240227T232056Z
LAST-MODIFIED:20240227T232056Z
UID:10000043-1718784000-1718793000@yukonhost.com
SUMMARY:WHITE PASS SUMMIT EXCURSION
DESCRIPTION:
URL:https://yukonhost.com/event/white-pass-summit-excursion/2024-06-19/
LOCATION:Skagway depot\, 201 2nd Avenue\, Skagway\, AK\, 99840\, United States
END:VEVENT
BEGIN:VEVENT
DTSTART;TZID=America/Whitehorse:20240618T080000
DTEND;TZID=America/Whitehorse:20240618T103000
DTSTAMP:20260419T164813
CREATED:20240227T232056Z
LAST-MODIFIED:20240227T232056Z
UID:10000042-1718697600-1718706600@yukonhost.com
SUMMARY:WHITE PASS SUMMIT EXCURSION
DESCRIPTION:
URL:https://yukonhost.com/event/white-pass-summit-excursion/2024-06-18/
LOCATION:Skagway depot\, 201 2nd Avenue\, Skagway\, AK\, 99840\, United States
END:VEVENT
BEGIN:VEVENT
DTSTART;TZID=America/Whitehorse:20240617T080000
DTEND;TZID=America/Whitehorse:20240617T103000
DTSTAMP:20260419T164813
CREATED:20240227T232056Z
LAST-MODIFIED:20240227T232056Z
UID:10000041-1718611200-1718620200@yukonhost.com
SUMMARY:WHITE PASS SUMMIT EXCURSION
DESCRIPTION:
URL:https://yukonhost.com/event/white-pass-summit-excursion/2024-06-17/
LOCATION:Skagway depot\, 201 2nd Avenue\, Skagway\, AK\, 99840\, United States
END:VEVENT
BEGIN:VEVENT
DTSTART;TZID=America/Whitehorse:20240616T080000
DTEND;TZID=America/Whitehorse:20240616T103000
DTSTAMP:20260419T164813
CREATED:20240227T232056Z
LAST-MODIFIED:20240227T232056Z
UID:10000040-1718524800-1718533800@yukonhost.com
SUMMARY:WHITE PASS SUMMIT EXCURSION
DESCRIPTION:
URL:https://yukonhost.com/event/white-pass-summit-excursion/2024-06-16/
LOCATION:Skagway depot\, 201 2nd Avenue\, Skagway\, AK\, 99840\, United States
END:VEVENT
BEGIN:VEVENT
DTSTART;TZID=America/Whitehorse:20240615T080000
DTEND;TZID=America/Whitehorse:20240615T103000
DTSTAMP:20260419T164813
CREATED:20240227T232056Z
LAST-MODIFIED:20240227T232056Z
UID:10000039-1718438400-1718447400@yukonhost.com
SUMMARY:WHITE PASS SUMMIT EXCURSION
DESCRIPTION:
URL:https://yukonhost.com/event/white-pass-summit-excursion/2024-06-15/
LOCATION:Skagway depot\, 201 2nd Avenue\, Skagway\, AK\, 99840\, United States
END:VEVENT
BEGIN:VEVENT
DTSTART;TZID=America/Whitehorse:20240614T080000
DTEND;TZID=America/Whitehorse:20240614T103000
DTSTAMP:20260419T164813
CREATED:20240227T232056Z
LAST-MODIFIED:20240227T232056Z
UID:10000038-1718352000-1718361000@yukonhost.com
SUMMARY:WHITE PASS SUMMIT EXCURSION
DESCRIPTION:
URL:https://yukonhost.com/event/white-pass-summit-excursion/2024-06-14/
LOCATION:Skagway depot\, 201 2nd Avenue\, Skagway\, AK\, 99840\, United States
END:VEVENT
BEGIN:VEVENT
DTSTART;TZID=America/Whitehorse:20240613T080000
DTEND;TZID=America/Whitehorse:20240613T103000
DTSTAMP:20260419T164813
CREATED:20240227T232056Z
LAST-MODIFIED:20240227T232056Z
UID:10000037-1718265600-1718274600@yukonhost.com
SUMMARY:WHITE PASS SUMMIT EXCURSION
DESCRIPTION:
URL:https://yukonhost.com/event/white-pass-summit-excursion/2024-06-13/
LOCATION:Skagway depot\, 201 2nd Avenue\, Skagway\, AK\, 99840\, United States
END:VEVENT
BEGIN:VEVENT
DTSTART;TZID=America/Whitehorse:20240612T080000
DTEND;TZID=America/Whitehorse:20240612T103000
DTSTAMP:20260419T164813
CREATED:20240227T232056Z
LAST-MODIFIED:20240227T232056Z
UID:10000036-1718179200-1718188200@yukonhost.com
SUMMARY:WHITE PASS SUMMIT EXCURSION
DESCRIPTION:
URL:https://yukonhost.com/event/white-pass-summit-excursion/2024-06-12/
LOCATION:Skagway depot\, 201 2nd Avenue\, Skagway\, AK\, 99840\, United States
END:VEVENT
BEGIN:VEVENT
DTSTART;TZID=America/Whitehorse:20240611T080000
DTEND;TZID=America/Whitehorse:20240611T103000
DTSTAMP:20260419T164813
CREATED:20240227T232056Z
LAST-MODIFIED:20240227T232056Z
UID:10000035-1718092800-1718101800@yukonhost.com
SUMMARY:WHITE PASS SUMMIT EXCURSION
DESCRIPTION:
URL:https://yukonhost.com/event/white-pass-summit-excursion/2024-06-11/
LOCATION:Skagway depot\, 201 2nd Avenue\, Skagway\, AK\, 99840\, United States
END:VEVENT
BEGIN:VEVENT
DTSTART;TZID=America/Whitehorse:20240610T080000
DTEND;TZID=America/Whitehorse:20240610T103000
DTSTAMP:20260419T164813
CREATED:20240227T232056Z
LAST-MODIFIED:20240227T232056Z
UID:10000034-1718006400-1718015400@yukonhost.com
SUMMARY:WHITE PASS SUMMIT EXCURSION
DESCRIPTION:
URL:https://yukonhost.com/event/white-pass-summit-excursion/2024-06-10/
LOCATION:Skagway depot\, 201 2nd Avenue\, Skagway\, AK\, 99840\, United States
END:VEVENT
BEGIN:VEVENT
DTSTART;TZID=America/Whitehorse:20240609T080000
DTEND;TZID=America/Whitehorse:20240609T103000
DTSTAMP:20260419T164813
CREATED:20240227T232056Z
LAST-MODIFIED:20240227T232056Z
UID:10000033-1717920000-1717929000@yukonhost.com
SUMMARY:WHITE PASS SUMMIT EXCURSION
DESCRIPTION:
URL:https://yukonhost.com/event/white-pass-summit-excursion/2024-06-09/
LOCATION:Skagway depot\, 201 2nd Avenue\, Skagway\, AK\, 99840\, United States
END:VEVENT
BEGIN:VEVENT
DTSTART;TZID=America/Whitehorse:20240608T080000
DTEND;TZID=America/Whitehorse:20240608T103000
DTSTAMP:20260419T164813
CREATED:20240227T232056Z
LAST-MODIFIED:20240227T232056Z
UID:10000032-1717833600-1717842600@yukonhost.com
SUMMARY:WHITE PASS SUMMIT EXCURSION
DESCRIPTION:
URL:https://yukonhost.com/event/white-pass-summit-excursion/2024-06-08/
LOCATION:Skagway depot\, 201 2nd Avenue\, Skagway\, AK\, 99840\, United States
END:VEVENT
BEGIN:VEVENT
DTSTART;TZID=America/Whitehorse:20240607T080000
DTEND;TZID=America/Whitehorse:20240607T103000
DTSTAMP:20260419T164813
CREATED:20240227T232056Z
LAST-MODIFIED:20240227T232056Z
UID:10000031-1717747200-1717756200@yukonhost.com
SUMMARY:WHITE PASS SUMMIT EXCURSION
DESCRIPTION:
URL:https://yukonhost.com/event/white-pass-summit-excursion/2024-06-07/
LOCATION:Skagway depot\, 201 2nd Avenue\, Skagway\, AK\, 99840\, United States
END:VEVENT
BEGIN:VEVENT
DTSTART;TZID=America/Whitehorse:20240606T080000
DTEND;TZID=America/Whitehorse:20240606T103000
DTSTAMP:20260419T164813
CREATED:20240227T232056Z
LAST-MODIFIED:20240227T232056Z
UID:10000030-1717660800-1717669800@yukonhost.com
SUMMARY:WHITE PASS SUMMIT EXCURSION
DESCRIPTION:
URL:https://yukonhost.com/event/white-pass-summit-excursion/2024-06-06/
LOCATION:Skagway depot\, 201 2nd Avenue\, Skagway\, AK\, 99840\, United States
END:VEVENT
BEGIN:VEVENT
DTSTART;TZID=America/Whitehorse:20240605T080000
DTEND;TZID=America/Whitehorse:20240605T103000
DTSTAMP:20260419T164813
CREATED:20240227T232056Z
LAST-MODIFIED:20240227T232056Z
UID:10000029-1717574400-1717583400@yukonhost.com
SUMMARY:WHITE PASS SUMMIT EXCURSION
DESCRIPTION:
URL:https://yukonhost.com/event/white-pass-summit-excursion/2024-06-05/
LOCATION:Skagway depot\, 201 2nd Avenue\, Skagway\, AK\, 99840\, United States
END:VEVENT
BEGIN:VEVENT
DTSTART;TZID=America/Whitehorse:20240604T080000
DTEND;TZID=America/Whitehorse:20240604T103000
DTSTAMP:20260419T164813
CREATED:20240227T232056Z
LAST-MODIFIED:20240227T232056Z
UID:10000028-1717488000-1717497000@yukonhost.com
SUMMARY:WHITE PASS SUMMIT EXCURSION
DESCRIPTION:
URL:https://yukonhost.com/event/white-pass-summit-excursion/2024-06-04/
LOCATION:Skagway depot\, 201 2nd Avenue\, Skagway\, AK\, 99840\, United States
END:VEVENT
BEGIN:VEVENT
DTSTART;TZID=America/Whitehorse:20240603T080000
DTEND;TZID=America/Whitehorse:20240603T103000
DTSTAMP:20260419T164813
CREATED:20240227T232056Z
LAST-MODIFIED:20240227T232056Z
UID:10000027-1717401600-1717410600@yukonhost.com
SUMMARY:WHITE PASS SUMMIT EXCURSION
DESCRIPTION:
URL:https://yukonhost.com/event/white-pass-summit-excursion/2024-06-03/
LOCATION:Skagway depot\, 201 2nd Avenue\, Skagway\, AK\, 99840\, United States
END:VEVENT
BEGIN:VEVENT
DTSTART;TZID=America/Whitehorse:20240602T080000
DTEND;TZID=America/Whitehorse:20240602T103000
DTSTAMP:20260419T164813
CREATED:20240227T232056Z
LAST-MODIFIED:20240227T232056Z
UID:10000026-1717315200-1717324200@yukonhost.com
SUMMARY:WHITE PASS SUMMIT EXCURSION
DESCRIPTION:
URL:https://yukonhost.com/event/white-pass-summit-excursion/2024-06-02/
LOCATION:Skagway depot\, 201 2nd Avenue\, Skagway\, AK\, 99840\, United States
END:VEVENT
BEGIN:VEVENT
DTSTART;TZID=America/Whitehorse:20240601T080000
DTEND;TZID=America/Whitehorse:20240601T103000
DTSTAMP:20260419T164813
CREATED:20240227T232056Z
LAST-MODIFIED:20240227T232056Z
UID:10000025-1717228800-1717237800@yukonhost.com
SUMMARY:WHITE PASS SUMMIT EXCURSION
DESCRIPTION:
URL:https://yukonhost.com/event/white-pass-summit-excursion/2024-06-01/
LOCATION:Skagway depot\, 201 2nd Avenue\, Skagway\, AK\, 99840\, United States
END:VEVENT
BEGIN:VEVENT
DTSTART;TZID=America/Whitehorse:20240531T080000
DTEND;TZID=America/Whitehorse:20240531T103000
DTSTAMP:20260419T164813
CREATED:20240227T232056Z
LAST-MODIFIED:20240227T232056Z
UID:10000024-1717142400-1717151400@yukonhost.com
SUMMARY:WHITE PASS SUMMIT EXCURSION
DESCRIPTION:
URL:https://yukonhost.com/event/white-pass-summit-excursion/2024-05-31/
LOCATION:Skagway depot\, 201 2nd Avenue\, Skagway\, AK\, 99840\, United States
END:VEVENT
BEGIN:VEVENT
DTSTART;TZID=America/Whitehorse:20240530T080000
DTEND;TZID=America/Whitehorse:20240530T103000
DTSTAMP:20260419T164813
CREATED:20240227T232056Z
LAST-MODIFIED:20240227T232056Z
UID:10000023-1717056000-1717065000@yukonhost.com
SUMMARY:WHITE PASS SUMMIT EXCURSION
DESCRIPTION:
URL:https://yukonhost.com/event/white-pass-summit-excursion/2024-05-30/
LOCATION:Skagway depot\, 201 2nd Avenue\, Skagway\, AK\, 99840\, United States
END:VEVENT
BEGIN:VEVENT
DTSTART;TZID=America/Whitehorse:20240529T080000
DTEND;TZID=America/Whitehorse:20240529T103000
DTSTAMP:20260419T164813
CREATED:20240227T232056Z
LAST-MODIFIED:20240227T232056Z
UID:10000022-1716969600-1716978600@yukonhost.com
SUMMARY:WHITE PASS SUMMIT EXCURSION
DESCRIPTION:
URL:https://yukonhost.com/event/white-pass-summit-excursion/2024-05-29/
LOCATION:Skagway depot\, 201 2nd Avenue\, Skagway\, AK\, 99840\, United States
END:VEVENT
BEGIN:VEVENT
DTSTART;TZID=America/Whitehorse:20240528T080000
DTEND;TZID=America/Whitehorse:20240528T103000
DTSTAMP:20260419T164813
CREATED:20240227T232056Z
LAST-MODIFIED:20240227T232056Z
UID:10000021-1716883200-1716892200@yukonhost.com
SUMMARY:WHITE PASS SUMMIT EXCURSION
DESCRIPTION:
URL:https://yukonhost.com/event/white-pass-summit-excursion/2024-05-28/
LOCATION:Skagway depot\, 201 2nd Avenue\, Skagway\, AK\, 99840\, United States
END:VEVENT
BEGIN:VEVENT
DTSTART;TZID=America/Whitehorse:20240527T080000
DTEND;TZID=America/Whitehorse:20240527T103000
DTSTAMP:20260419T164813
CREATED:20240227T232056Z
LAST-MODIFIED:20240227T232056Z
UID:10000020-1716796800-1716805800@yukonhost.com
SUMMARY:WHITE PASS SUMMIT EXCURSION
DESCRIPTION:
URL:https://yukonhost.com/event/white-pass-summit-excursion/2024-05-27/
LOCATION:Skagway depot\, 201 2nd Avenue\, Skagway\, AK\, 99840\, United States
END:VEVENT
BEGIN:VEVENT
DTSTART;TZID=America/Whitehorse:20240526T080000
DTEND;TZID=America/Whitehorse:20240526T103000
DTSTAMP:20260419T164813
CREATED:20240227T232056Z
LAST-MODIFIED:20240227T232056Z
UID:10000019-1716710400-1716719400@yukonhost.com
SUMMARY:WHITE PASS SUMMIT EXCURSION
DESCRIPTION:
URL:https://yukonhost.com/event/white-pass-summit-excursion/2024-05-26/
LOCATION:Skagway depot\, 201 2nd Avenue\, Skagway\, AK\, 99840\, United States
END:VEVENT
BEGIN:VEVENT
DTSTART;TZID=America/Whitehorse:20240524T080000
DTEND;TZID=America/Whitehorse:20240524T103000
DTSTAMP:20260419T164813
CREATED:20240227T232056Z
LAST-MODIFIED:20240227T232056Z
UID:10000018-1716537600-1716546600@yukonhost.com
SUMMARY:WHITE PASS SUMMIT EXCURSION
DESCRIPTION:
URL:https://yukonhost.com/event/white-pass-summit-excursion/2024-05-24/
LOCATION:Skagway depot\, 201 2nd Avenue\, Skagway\, AK\, 99840\, United States
END:VEVENT
BEGIN:VEVENT
DTSTART;TZID=America/Whitehorse:20240522T080000
DTEND;TZID=America/Whitehorse:20240522T103000
DTSTAMP:20260419T164813
CREATED:20240227T232056Z
LAST-MODIFIED:20240227T232056Z
UID:10000017-1716364800-1716373800@yukonhost.com
SUMMARY:WHITE PASS SUMMIT EXCURSION
DESCRIPTION:
URL:https://yukonhost.com/event/white-pass-summit-excursion/2024-05-22/
LOCATION:Skagway depot\, 201 2nd Avenue\, Skagway\, AK\, 99840\, United States
END:VEVENT
END:VCALENDAR