BEGIN:VCALENDAR
VERSION:2.0
PRODID:-//Whitehorse, Yukon - Web Hosting and Web Site Design - ECPv6.15.20//NONSGML v1.0//EN
CALSCALE:GREGORIAN
METHOD:PUBLISH
X-ORIGINAL-URL:https://yukonhost.com
X-WR-CALDESC:Events for Whitehorse, Yukon - Web Hosting and Web Site Design
REFRESH-INTERVAL;VALUE=DURATION:PT1H
X-Robots-Tag:noindex
X-PUBLISHED-TTL:PT1H
BEGIN:VTIMEZONE
TZID:America/Whitehorse
BEGIN:STANDARD
TZOFFSETFROM:-0700
TZOFFSETTO:-0700
TZNAME:MST
DTSTART:20230101T000000
END:STANDARD
END:VTIMEZONE
BEGIN:VEVENT
DTSTART;TZID=America/Whitehorse:20240510T080000
DTEND;TZID=America/Whitehorse:20240510T103000
DTSTAMP:20260419T235551
CREATED:20240227T232056Z
LAST-MODIFIED:20240227T232056Z
UID:10000006-1715328000-1715337000@yukonhost.com
SUMMARY:WHITE PASS SUMMIT EXCURSION
DESCRIPTION:
URL:https://yukonhost.com/event/white-pass-summit-excursion/2024-05-10/
LOCATION:Skagway depot\, 201 2nd Avenue\, Skagway\, AK\, 99840\, United States
END:VEVENT
BEGIN:VEVENT
DTSTART;TZID=America/Whitehorse:20240509T080000
DTEND;TZID=America/Whitehorse:20240509T103000
DTSTAMP:20260419T235551
CREATED:20240227T232056Z
LAST-MODIFIED:20240227T232056Z
UID:10000005-1715241600-1715250600@yukonhost.com
SUMMARY:WHITE PASS SUMMIT EXCURSION
DESCRIPTION:
URL:https://yukonhost.com/event/white-pass-summit-excursion/2024-05-09/
LOCATION:Skagway depot\, 201 2nd Avenue\, Skagway\, AK\, 99840\, United States
END:VEVENT
BEGIN:VEVENT
DTSTART;TZID=America/Whitehorse:20240508T080000
DTEND;TZID=America/Whitehorse:20240508T103000
DTSTAMP:20260419T235551
CREATED:20240227T232056Z
LAST-MODIFIED:20240227T232056Z
UID:10000004-1715155200-1715164200@yukonhost.com
SUMMARY:WHITE PASS SUMMIT EXCURSION
DESCRIPTION:
URL:https://yukonhost.com/event/white-pass-summit-excursion/2024-05-08/
LOCATION:Skagway depot\, 201 2nd Avenue\, Skagway\, AK\, 99840\, United States
END:VEVENT
BEGIN:VEVENT
DTSTART;TZID=America/Whitehorse:20240505T080000
DTEND;TZID=America/Whitehorse:20240505T103000
DTSTAMP:20260419T235551
CREATED:20240227T232056Z
LAST-MODIFIED:20240227T232056Z
UID:10000003-1714896000-1714905000@yukonhost.com
SUMMARY:WHITE PASS SUMMIT EXCURSION
DESCRIPTION:
URL:https://yukonhost.com/event/white-pass-summit-excursion/2024-05-05/
LOCATION:Skagway depot\, 201 2nd Avenue\, Skagway\, AK\, 99840\, United States
END:VEVENT
BEGIN:VEVENT
DTSTART;TZID=America/Whitehorse:20240504T080000
DTEND;TZID=America/Whitehorse:20240504T103000
DTSTAMP:20260419T235551
CREATED:20240227T232056Z
LAST-MODIFIED:20240227T232056Z
UID:10000002-1714809600-1714818600@yukonhost.com
SUMMARY:WHITE PASS SUMMIT EXCURSION
DESCRIPTION:
URL:https://yukonhost.com/event/white-pass-summit-excursion/2024-05-04/
LOCATION:Skagway depot\, 201 2nd Avenue\, Skagway\, AK\, 99840\, United States
END:VEVENT
BEGIN:VEVENT
DTSTART;TZID=America/Whitehorse:20240503T080000
DTEND;TZID=America/Whitehorse:20240503T103000
DTSTAMP:20260419T235551
CREATED:20240227T232056Z
LAST-MODIFIED:20240227T232056Z
UID:10000001-1714723200-1714732200@yukonhost.com
SUMMARY:WHITE PASS SUMMIT EXCURSION
DESCRIPTION:
URL:https://yukonhost.com/event/white-pass-summit-excursion/2024-05-03/
LOCATION:Skagway depot\, 201 2nd Avenue\, Skagway\, AK\, 99840\, United States
END:VEVENT
END:VCALENDAR