BEGIN:VCALENDAR
VERSION:2.0
PRODID:-//Whitehorse, Yukon - Web Hosting and Web Site Design - ECPv6.15.20//NONSGML v1.0//EN
CALSCALE:GREGORIAN
METHOD:PUBLISH
X-WR-CALNAME:Whitehorse, Yukon - Web Hosting and Web Site Design
X-ORIGINAL-URL:https://yukonhost.com
X-WR-CALDESC:Events for Whitehorse, Yukon - Web Hosting and Web Site Design
REFRESH-INTERVAL;VALUE=DURATION:PT1H
X-Robots-Tag:noindex
X-PUBLISHED-TTL:PT1H
BEGIN:VTIMEZONE
TZID:America/Whitehorse
BEGIN:STANDARD
TZOFFSETFROM:-0700
TZOFFSETTO:-0700
TZNAME:MST
DTSTART:20230101T000000
END:STANDARD
END:VTIMEZONE
BEGIN:VEVENT
DTSTART;TZID=America/Whitehorse:20240821T080000
DTEND;TZID=America/Whitehorse:20240821T103000
DTSTAMP:20260419T065712
CREATED:20240227T232056Z
LAST-MODIFIED:20240227T232056Z
UID:10000106-1724227200-1724236200@yukonhost.com
SUMMARY:WHITE PASS SUMMIT EXCURSION
DESCRIPTION:
URL:https://yukonhost.com/event/white-pass-summit-excursion/2024-08-21/
LOCATION:Skagway depot\, 201 2nd Avenue\, Skagway\, AK\, 99840\, United States
END:VEVENT
BEGIN:VEVENT
DTSTART;TZID=America/Whitehorse:20240820T080000
DTEND;TZID=America/Whitehorse:20240820T103000
DTSTAMP:20260419T065712
CREATED:20240227T232056Z
LAST-MODIFIED:20240227T232056Z
UID:10000105-1724140800-1724149800@yukonhost.com
SUMMARY:WHITE PASS SUMMIT EXCURSION
DESCRIPTION:
URL:https://yukonhost.com/event/white-pass-summit-excursion/2024-08-20/
LOCATION:Skagway depot\, 201 2nd Avenue\, Skagway\, AK\, 99840\, United States
END:VEVENT
BEGIN:VEVENT
DTSTART;TZID=America/Whitehorse:20240819T080000
DTEND;TZID=America/Whitehorse:20240819T103000
DTSTAMP:20260419T065712
CREATED:20240227T232056Z
LAST-MODIFIED:20240227T232056Z
UID:10000104-1724054400-1724063400@yukonhost.com
SUMMARY:WHITE PASS SUMMIT EXCURSION
DESCRIPTION:
URL:https://yukonhost.com/event/white-pass-summit-excursion/2024-08-19/
LOCATION:Skagway depot\, 201 2nd Avenue\, Skagway\, AK\, 99840\, United States
END:VEVENT
BEGIN:VEVENT
DTSTART;TZID=America/Whitehorse:20240818T080000
DTEND;TZID=America/Whitehorse:20240818T103000
DTSTAMP:20260419T065712
CREATED:20240227T232056Z
LAST-MODIFIED:20240227T232056Z
UID:10000103-1723968000-1723977000@yukonhost.com
SUMMARY:WHITE PASS SUMMIT EXCURSION
DESCRIPTION:
URL:https://yukonhost.com/event/white-pass-summit-excursion/2024-08-18/
LOCATION:Skagway depot\, 201 2nd Avenue\, Skagway\, AK\, 99840\, United States
END:VEVENT
BEGIN:VEVENT
DTSTART;TZID=America/Whitehorse:20240817T080000
DTEND;TZID=America/Whitehorse:20240817T103000
DTSTAMP:20260419T065712
CREATED:20240227T232056Z
LAST-MODIFIED:20240227T232056Z
UID:10000102-1723881600-1723890600@yukonhost.com
SUMMARY:WHITE PASS SUMMIT EXCURSION
DESCRIPTION:
URL:https://yukonhost.com/event/white-pass-summit-excursion/2024-08-17/
LOCATION:Skagway depot\, 201 2nd Avenue\, Skagway\, AK\, 99840\, United States
END:VEVENT
BEGIN:VEVENT
DTSTART;TZID=America/Whitehorse:20240816T080000
DTEND;TZID=America/Whitehorse:20240816T103000
DTSTAMP:20260419T065712
CREATED:20240227T232056Z
LAST-MODIFIED:20240227T232056Z
UID:10000101-1723795200-1723804200@yukonhost.com
SUMMARY:WHITE PASS SUMMIT EXCURSION
DESCRIPTION:
URL:https://yukonhost.com/event/white-pass-summit-excursion/2024-08-16/
LOCATION:Skagway depot\, 201 2nd Avenue\, Skagway\, AK\, 99840\, United States
END:VEVENT
BEGIN:VEVENT
DTSTART;TZID=America/Whitehorse:20240815T080000
DTEND;TZID=America/Whitehorse:20240815T103000
DTSTAMP:20260419T065712
CREATED:20240227T232056Z
LAST-MODIFIED:20240227T232056Z
UID:10000100-1723708800-1723717800@yukonhost.com
SUMMARY:WHITE PASS SUMMIT EXCURSION
DESCRIPTION:
URL:https://yukonhost.com/event/white-pass-summit-excursion/2024-08-15/
LOCATION:Skagway depot\, 201 2nd Avenue\, Skagway\, AK\, 99840\, United States
END:VEVENT
BEGIN:VEVENT
DTSTART;TZID=America/Whitehorse:20240814T080000
DTEND;TZID=America/Whitehorse:20240814T103000
DTSTAMP:20260419T065712
CREATED:20240227T232056Z
LAST-MODIFIED:20240227T232056Z
UID:10000099-1723622400-1723631400@yukonhost.com
SUMMARY:WHITE PASS SUMMIT EXCURSION
DESCRIPTION:
URL:https://yukonhost.com/event/white-pass-summit-excursion/2024-08-14/
LOCATION:Skagway depot\, 201 2nd Avenue\, Skagway\, AK\, 99840\, United States
END:VEVENT
BEGIN:VEVENT
DTSTART;TZID=America/Whitehorse:20240813T080000
DTEND;TZID=America/Whitehorse:20240813T103000
DTSTAMP:20260419T065712
CREATED:20240227T232056Z
LAST-MODIFIED:20240227T232056Z
UID:10000098-1723536000-1723545000@yukonhost.com
SUMMARY:WHITE PASS SUMMIT EXCURSION
DESCRIPTION:
URL:https://yukonhost.com/event/white-pass-summit-excursion/2024-08-13/
LOCATION:Skagway depot\, 201 2nd Avenue\, Skagway\, AK\, 99840\, United States
END:VEVENT
BEGIN:VEVENT
DTSTART;TZID=America/Whitehorse:20240812T080000
DTEND;TZID=America/Whitehorse:20240812T103000
DTSTAMP:20260419T065712
CREATED:20240227T232056Z
LAST-MODIFIED:20240227T232056Z
UID:10000097-1723449600-1723458600@yukonhost.com
SUMMARY:WHITE PASS SUMMIT EXCURSION
DESCRIPTION:
URL:https://yukonhost.com/event/white-pass-summit-excursion/2024-08-12/
LOCATION:Skagway depot\, 201 2nd Avenue\, Skagway\, AK\, 99840\, United States
END:VEVENT
BEGIN:VEVENT
DTSTART;TZID=America/Whitehorse:20240811T080000
DTEND;TZID=America/Whitehorse:20240811T103000
DTSTAMP:20260419T065712
CREATED:20240227T232056Z
LAST-MODIFIED:20240227T232056Z
UID:10000096-1723363200-1723372200@yukonhost.com
SUMMARY:WHITE PASS SUMMIT EXCURSION
DESCRIPTION:
URL:https://yukonhost.com/event/white-pass-summit-excursion/2024-08-11/
LOCATION:Skagway depot\, 201 2nd Avenue\, Skagway\, AK\, 99840\, United States
END:VEVENT
BEGIN:VEVENT
DTSTART;TZID=America/Whitehorse:20240810T080000
DTEND;TZID=America/Whitehorse:20240810T103000
DTSTAMP:20260419T065712
CREATED:20240227T232056Z
LAST-MODIFIED:20240227T232056Z
UID:10000095-1723276800-1723285800@yukonhost.com
SUMMARY:WHITE PASS SUMMIT EXCURSION
DESCRIPTION:
URL:https://yukonhost.com/event/white-pass-summit-excursion/2024-08-10/
LOCATION:Skagway depot\, 201 2nd Avenue\, Skagway\, AK\, 99840\, United States
END:VEVENT
BEGIN:VEVENT
DTSTART;TZID=America/Whitehorse:20240809T080000
DTEND;TZID=America/Whitehorse:20240809T103000
DTSTAMP:20260419T065712
CREATED:20240227T232056Z
LAST-MODIFIED:20240227T232056Z
UID:10000094-1723190400-1723199400@yukonhost.com
SUMMARY:WHITE PASS SUMMIT EXCURSION
DESCRIPTION:
URL:https://yukonhost.com/event/white-pass-summit-excursion/2024-08-09/
LOCATION:Skagway depot\, 201 2nd Avenue\, Skagway\, AK\, 99840\, United States
END:VEVENT
BEGIN:VEVENT
DTSTART;TZID=America/Whitehorse:20240808T080000
DTEND;TZID=America/Whitehorse:20240808T103000
DTSTAMP:20260419T065712
CREATED:20240227T232056Z
LAST-MODIFIED:20240227T232056Z
UID:10000093-1723104000-1723113000@yukonhost.com
SUMMARY:WHITE PASS SUMMIT EXCURSION
DESCRIPTION:
URL:https://yukonhost.com/event/white-pass-summit-excursion/2024-08-08/
LOCATION:Skagway depot\, 201 2nd Avenue\, Skagway\, AK\, 99840\, United States
END:VEVENT
BEGIN:VEVENT
DTSTART;TZID=America/Whitehorse:20240807T080000
DTEND;TZID=America/Whitehorse:20240807T103000
DTSTAMP:20260419T065712
CREATED:20240227T232056Z
LAST-MODIFIED:20240227T232056Z
UID:10000092-1723017600-1723026600@yukonhost.com
SUMMARY:WHITE PASS SUMMIT EXCURSION
DESCRIPTION:
URL:https://yukonhost.com/event/white-pass-summit-excursion/2024-08-07/
LOCATION:Skagway depot\, 201 2nd Avenue\, Skagway\, AK\, 99840\, United States
END:VEVENT
BEGIN:VEVENT
DTSTART;TZID=America/Whitehorse:20240806T080000
DTEND;TZID=America/Whitehorse:20240806T103000
DTSTAMP:20260419T065712
CREATED:20240227T232056Z
LAST-MODIFIED:20240227T232056Z
UID:10000091-1722931200-1722940200@yukonhost.com
SUMMARY:WHITE PASS SUMMIT EXCURSION
DESCRIPTION:
URL:https://yukonhost.com/event/white-pass-summit-excursion/2024-08-06/
LOCATION:Skagway depot\, 201 2nd Avenue\, Skagway\, AK\, 99840\, United States
END:VEVENT
BEGIN:VEVENT
DTSTART;TZID=America/Whitehorse:20240805T080000
DTEND;TZID=America/Whitehorse:20240805T103000
DTSTAMP:20260419T065712
CREATED:20240227T232056Z
LAST-MODIFIED:20240227T232056Z
UID:10000090-1722844800-1722853800@yukonhost.com
SUMMARY:WHITE PASS SUMMIT EXCURSION
DESCRIPTION:
URL:https://yukonhost.com/event/white-pass-summit-excursion/2024-08-05/
LOCATION:Skagway depot\, 201 2nd Avenue\, Skagway\, AK\, 99840\, United States
END:VEVENT
BEGIN:VEVENT
DTSTART;TZID=America/Whitehorse:20240804T080000
DTEND;TZID=America/Whitehorse:20240804T103000
DTSTAMP:20260419T065712
CREATED:20240227T232056Z
LAST-MODIFIED:20240227T232056Z
UID:10000089-1722758400-1722767400@yukonhost.com
SUMMARY:WHITE PASS SUMMIT EXCURSION
DESCRIPTION:
URL:https://yukonhost.com/event/white-pass-summit-excursion/2024-08-04/
LOCATION:Skagway depot\, 201 2nd Avenue\, Skagway\, AK\, 99840\, United States
END:VEVENT
BEGIN:VEVENT
DTSTART;TZID=America/Whitehorse:20240803T080000
DTEND;TZID=America/Whitehorse:20240803T103000
DTSTAMP:20260419T065712
CREATED:20240227T232056Z
LAST-MODIFIED:20240227T232056Z
UID:10000088-1722672000-1722681000@yukonhost.com
SUMMARY:WHITE PASS SUMMIT EXCURSION
DESCRIPTION:
URL:https://yukonhost.com/event/white-pass-summit-excursion/2024-08-03/
LOCATION:Skagway depot\, 201 2nd Avenue\, Skagway\, AK\, 99840\, United States
END:VEVENT
BEGIN:VEVENT
DTSTART;TZID=America/Whitehorse:20240802T080000
DTEND;TZID=America/Whitehorse:20240802T103000
DTSTAMP:20260419T065712
CREATED:20240227T232056Z
LAST-MODIFIED:20240227T232056Z
UID:10000087-1722585600-1722594600@yukonhost.com
SUMMARY:WHITE PASS SUMMIT EXCURSION
DESCRIPTION:
URL:https://yukonhost.com/event/white-pass-summit-excursion/2024-08-02/
LOCATION:Skagway depot\, 201 2nd Avenue\, Skagway\, AK\, 99840\, United States
END:VEVENT
BEGIN:VEVENT
DTSTART;TZID=America/Whitehorse:20240801T080000
DTEND;TZID=America/Whitehorse:20240801T103000
DTSTAMP:20260419T065712
CREATED:20240227T232056Z
LAST-MODIFIED:20240227T232056Z
UID:10000086-1722499200-1722508200@yukonhost.com
SUMMARY:WHITE PASS SUMMIT EXCURSION
DESCRIPTION:
URL:https://yukonhost.com/event/white-pass-summit-excursion/2024-08-01/
LOCATION:Skagway depot\, 201 2nd Avenue\, Skagway\, AK\, 99840\, United States
END:VEVENT
BEGIN:VEVENT
DTSTART;TZID=America/Whitehorse:20240731T080000
DTEND;TZID=America/Whitehorse:20240731T103000
DTSTAMP:20260419T065712
CREATED:20240227T232056Z
LAST-MODIFIED:20240227T232056Z
UID:10000085-1722412800-1722421800@yukonhost.com
SUMMARY:WHITE PASS SUMMIT EXCURSION
DESCRIPTION:
URL:https://yukonhost.com/event/white-pass-summit-excursion/2024-07-31/
LOCATION:Skagway depot\, 201 2nd Avenue\, Skagway\, AK\, 99840\, United States
END:VEVENT
BEGIN:VEVENT
DTSTART;TZID=America/Whitehorse:20240730T080000
DTEND;TZID=America/Whitehorse:20240730T103000
DTSTAMP:20260419T065712
CREATED:20240227T232056Z
LAST-MODIFIED:20240227T232056Z
UID:10000084-1722326400-1722335400@yukonhost.com
SUMMARY:WHITE PASS SUMMIT EXCURSION
DESCRIPTION:
URL:https://yukonhost.com/event/white-pass-summit-excursion/2024-07-30/
LOCATION:Skagway depot\, 201 2nd Avenue\, Skagway\, AK\, 99840\, United States
END:VEVENT
BEGIN:VEVENT
DTSTART;TZID=America/Whitehorse:20240729T080000
DTEND;TZID=America/Whitehorse:20240729T103000
DTSTAMP:20260419T065712
CREATED:20240227T232056Z
LAST-MODIFIED:20240227T232056Z
UID:10000083-1722240000-1722249000@yukonhost.com
SUMMARY:WHITE PASS SUMMIT EXCURSION
DESCRIPTION:
URL:https://yukonhost.com/event/white-pass-summit-excursion/2024-07-29/
LOCATION:Skagway depot\, 201 2nd Avenue\, Skagway\, AK\, 99840\, United States
END:VEVENT
BEGIN:VEVENT
DTSTART;TZID=America/Whitehorse:20240728T080000
DTEND;TZID=America/Whitehorse:20240728T103000
DTSTAMP:20260419T065712
CREATED:20240227T232056Z
LAST-MODIFIED:20240227T232056Z
UID:10000082-1722153600-1722162600@yukonhost.com
SUMMARY:WHITE PASS SUMMIT EXCURSION
DESCRIPTION:
URL:https://yukonhost.com/event/white-pass-summit-excursion/2024-07-28/
LOCATION:Skagway depot\, 201 2nd Avenue\, Skagway\, AK\, 99840\, United States
END:VEVENT
BEGIN:VEVENT
DTSTART;TZID=America/Whitehorse:20240727T080000
DTEND;TZID=America/Whitehorse:20240727T103000
DTSTAMP:20260419T065713
CREATED:20240227T232056Z
LAST-MODIFIED:20240227T232056Z
UID:10000081-1722067200-1722076200@yukonhost.com
SUMMARY:WHITE PASS SUMMIT EXCURSION
DESCRIPTION:
URL:https://yukonhost.com/event/white-pass-summit-excursion/2024-07-27/
LOCATION:Skagway depot\, 201 2nd Avenue\, Skagway\, AK\, 99840\, United States
END:VEVENT
BEGIN:VEVENT
DTSTART;TZID=America/Whitehorse:20240726T080000
DTEND;TZID=America/Whitehorse:20240726T103000
DTSTAMP:20260419T065713
CREATED:20240227T232056Z
LAST-MODIFIED:20240227T232056Z
UID:10000080-1721980800-1721989800@yukonhost.com
SUMMARY:WHITE PASS SUMMIT EXCURSION
DESCRIPTION:
URL:https://yukonhost.com/event/white-pass-summit-excursion/2024-07-26/
LOCATION:Skagway depot\, 201 2nd Avenue\, Skagway\, AK\, 99840\, United States
END:VEVENT
BEGIN:VEVENT
DTSTART;TZID=America/Whitehorse:20240725T080000
DTEND;TZID=America/Whitehorse:20240725T103000
DTSTAMP:20260419T065713
CREATED:20240227T232056Z
LAST-MODIFIED:20240227T232056Z
UID:10000079-1721894400-1721903400@yukonhost.com
SUMMARY:WHITE PASS SUMMIT EXCURSION
DESCRIPTION:
URL:https://yukonhost.com/event/white-pass-summit-excursion/2024-07-25/
LOCATION:Skagway depot\, 201 2nd Avenue\, Skagway\, AK\, 99840\, United States
END:VEVENT
BEGIN:VEVENT
DTSTART;TZID=America/Whitehorse:20240724T080000
DTEND;TZID=America/Whitehorse:20240724T103000
DTSTAMP:20260419T065713
CREATED:20240227T232056Z
LAST-MODIFIED:20240227T232056Z
UID:10000078-1721808000-1721817000@yukonhost.com
SUMMARY:WHITE PASS SUMMIT EXCURSION
DESCRIPTION:
URL:https://yukonhost.com/event/white-pass-summit-excursion/2024-07-24/
LOCATION:Skagway depot\, 201 2nd Avenue\, Skagway\, AK\, 99840\, United States
END:VEVENT
BEGIN:VEVENT
DTSTART;TZID=America/Whitehorse:20240723T080000
DTEND;TZID=America/Whitehorse:20240723T103000
DTSTAMP:20260419T065713
CREATED:20240227T232056Z
LAST-MODIFIED:20240227T232056Z
UID:10000077-1721721600-1721730600@yukonhost.com
SUMMARY:WHITE PASS SUMMIT EXCURSION
DESCRIPTION:
URL:https://yukonhost.com/event/white-pass-summit-excursion/2024-07-23/
LOCATION:Skagway depot\, 201 2nd Avenue\, Skagway\, AK\, 99840\, United States
END:VEVENT
END:VCALENDAR