BEGIN:VCALENDAR
VERSION:2.0
PRODID:-//Whitehorse, Yukon - Web Hosting and Web Site Design - ECPv6.15.20//NONSGML v1.0//EN
CALSCALE:GREGORIAN
METHOD:PUBLISH
X-WR-CALNAME:Whitehorse, Yukon - Web Hosting and Web Site Design
X-ORIGINAL-URL:https://yukonhost.com
X-WR-CALDESC:Events for Whitehorse, Yukon - Web Hosting and Web Site Design
REFRESH-INTERVAL;VALUE=DURATION:PT1H
X-Robots-Tag:noindex
X-PUBLISHED-TTL:PT1H
BEGIN:VTIMEZONE
TZID:America/Whitehorse
BEGIN:STANDARD
TZOFFSETFROM:-0700
TZOFFSETTO:-0700
TZNAME:MST
DTSTART:20230101T000000
END:STANDARD
END:VTIMEZONE
BEGIN:VEVENT
DTSTART;TZID=America/Whitehorse:20240712T080000
DTEND;TZID=America/Whitehorse:20240712T103000
DTSTAMP:20260419T132541
CREATED:20240227T232056Z
LAST-MODIFIED:20240227T232056Z
UID:10000066-1720771200-1720780200@yukonhost.com
SUMMARY:WHITE PASS SUMMIT EXCURSION
DESCRIPTION:
URL:https://yukonhost.com/event/white-pass-summit-excursion/2024-07-12/
LOCATION:Skagway depot\, 201 2nd Avenue\, Skagway\, AK\, 99840\, United States
END:VEVENT
BEGIN:VEVENT
DTSTART;TZID=America/Whitehorse:20240711T080000
DTEND;TZID=America/Whitehorse:20240711T103000
DTSTAMP:20260419T132541
CREATED:20240227T232056Z
LAST-MODIFIED:20240227T232056Z
UID:10000065-1720684800-1720693800@yukonhost.com
SUMMARY:WHITE PASS SUMMIT EXCURSION
DESCRIPTION:
URL:https://yukonhost.com/event/white-pass-summit-excursion/2024-07-11/
LOCATION:Skagway depot\, 201 2nd Avenue\, Skagway\, AK\, 99840\, United States
END:VEVENT
BEGIN:VEVENT
DTSTART;TZID=America/Whitehorse:20240710T080000
DTEND;TZID=America/Whitehorse:20240710T103000
DTSTAMP:20260419T132541
CREATED:20240227T232056Z
LAST-MODIFIED:20240227T232056Z
UID:10000064-1720598400-1720607400@yukonhost.com
SUMMARY:WHITE PASS SUMMIT EXCURSION
DESCRIPTION:
URL:https://yukonhost.com/event/white-pass-summit-excursion/2024-07-10/
LOCATION:Skagway depot\, 201 2nd Avenue\, Skagway\, AK\, 99840\, United States
END:VEVENT
BEGIN:VEVENT
DTSTART;TZID=America/Whitehorse:20240709T080000
DTEND;TZID=America/Whitehorse:20240709T103000
DTSTAMP:20260419T132541
CREATED:20240227T232056Z
LAST-MODIFIED:20240227T232056Z
UID:10000063-1720512000-1720521000@yukonhost.com
SUMMARY:WHITE PASS SUMMIT EXCURSION
DESCRIPTION:
URL:https://yukonhost.com/event/white-pass-summit-excursion/2024-07-09/
LOCATION:Skagway depot\, 201 2nd Avenue\, Skagway\, AK\, 99840\, United States
END:VEVENT
BEGIN:VEVENT
DTSTART;TZID=America/Whitehorse:20240708T080000
DTEND;TZID=America/Whitehorse:20240708T103000
DTSTAMP:20260419T132541
CREATED:20240227T232056Z
LAST-MODIFIED:20240227T232056Z
UID:10000062-1720425600-1720434600@yukonhost.com
SUMMARY:WHITE PASS SUMMIT EXCURSION
DESCRIPTION:
URL:https://yukonhost.com/event/white-pass-summit-excursion/2024-07-08/
LOCATION:Skagway depot\, 201 2nd Avenue\, Skagway\, AK\, 99840\, United States
END:VEVENT
BEGIN:VEVENT
DTSTART;TZID=America/Whitehorse:20240707T080000
DTEND;TZID=America/Whitehorse:20240707T103000
DTSTAMP:20260419T132541
CREATED:20240227T232056Z
LAST-MODIFIED:20240227T232056Z
UID:10000061-1720339200-1720348200@yukonhost.com
SUMMARY:WHITE PASS SUMMIT EXCURSION
DESCRIPTION:
URL:https://yukonhost.com/event/white-pass-summit-excursion/2024-07-07/
LOCATION:Skagway depot\, 201 2nd Avenue\, Skagway\, AK\, 99840\, United States
END:VEVENT
BEGIN:VEVENT
DTSTART;TZID=America/Whitehorse:20240706T080000
DTEND;TZID=America/Whitehorse:20240706T103000
DTSTAMP:20260419T132541
CREATED:20240227T232056Z
LAST-MODIFIED:20240227T232056Z
UID:10000060-1720252800-1720261800@yukonhost.com
SUMMARY:WHITE PASS SUMMIT EXCURSION
DESCRIPTION:
URL:https://yukonhost.com/event/white-pass-summit-excursion/2024-07-06/
LOCATION:Skagway depot\, 201 2nd Avenue\, Skagway\, AK\, 99840\, United States
END:VEVENT
BEGIN:VEVENT
DTSTART;TZID=America/Whitehorse:20240705T080000
DTEND;TZID=America/Whitehorse:20240705T103000
DTSTAMP:20260419T132541
CREATED:20240227T232056Z
LAST-MODIFIED:20240227T232056Z
UID:10000059-1720166400-1720175400@yukonhost.com
SUMMARY:WHITE PASS SUMMIT EXCURSION
DESCRIPTION:
URL:https://yukonhost.com/event/white-pass-summit-excursion/2024-07-05/
LOCATION:Skagway depot\, 201 2nd Avenue\, Skagway\, AK\, 99840\, United States
END:VEVENT
BEGIN:VEVENT
DTSTART;TZID=America/Whitehorse:20240704T080000
DTEND;TZID=America/Whitehorse:20240704T103000
DTSTAMP:20260419T132541
CREATED:20240227T232056Z
LAST-MODIFIED:20240227T232056Z
UID:10000058-1720080000-1720089000@yukonhost.com
SUMMARY:WHITE PASS SUMMIT EXCURSION
DESCRIPTION:
URL:https://yukonhost.com/event/white-pass-summit-excursion/2024-07-04/
LOCATION:Skagway depot\, 201 2nd Avenue\, Skagway\, AK\, 99840\, United States
END:VEVENT
BEGIN:VEVENT
DTSTART;TZID=America/Whitehorse:20240703T080000
DTEND;TZID=America/Whitehorse:20240703T103000
DTSTAMP:20260419T132541
CREATED:20240227T232056Z
LAST-MODIFIED:20240227T232056Z
UID:10000057-1719993600-1720002600@yukonhost.com
SUMMARY:WHITE PASS SUMMIT EXCURSION
DESCRIPTION:
URL:https://yukonhost.com/event/white-pass-summit-excursion/2024-07-03/
LOCATION:Skagway depot\, 201 2nd Avenue\, Skagway\, AK\, 99840\, United States
END:VEVENT
BEGIN:VEVENT
DTSTART;TZID=America/Whitehorse:20240702T080000
DTEND;TZID=America/Whitehorse:20240702T103000
DTSTAMP:20260419T132541
CREATED:20240227T232056Z
LAST-MODIFIED:20240227T232056Z
UID:10000056-1719907200-1719916200@yukonhost.com
SUMMARY:WHITE PASS SUMMIT EXCURSION
DESCRIPTION:
URL:https://yukonhost.com/event/white-pass-summit-excursion/2024-07-02/
LOCATION:Skagway depot\, 201 2nd Avenue\, Skagway\, AK\, 99840\, United States
END:VEVENT
BEGIN:VEVENT
DTSTART;TZID=America/Whitehorse:20240701T080000
DTEND;TZID=America/Whitehorse:20240701T103000
DTSTAMP:20260419T132541
CREATED:20240227T232056Z
LAST-MODIFIED:20240227T232056Z
UID:10000055-1719820800-1719829800@yukonhost.com
SUMMARY:WHITE PASS SUMMIT EXCURSION
DESCRIPTION:
URL:https://yukonhost.com/event/white-pass-summit-excursion/2024-07-01/
LOCATION:Skagway depot\, 201 2nd Avenue\, Skagway\, AK\, 99840\, United States
END:VEVENT
BEGIN:VEVENT
DTSTART;TZID=America/Whitehorse:20240630T080000
DTEND;TZID=America/Whitehorse:20240630T103000
DTSTAMP:20260419T132541
CREATED:20240227T232056Z
LAST-MODIFIED:20240227T232056Z
UID:10000054-1719734400-1719743400@yukonhost.com
SUMMARY:WHITE PASS SUMMIT EXCURSION
DESCRIPTION:
URL:https://yukonhost.com/event/white-pass-summit-excursion/2024-06-30/
LOCATION:Skagway depot\, 201 2nd Avenue\, Skagway\, AK\, 99840\, United States
END:VEVENT
BEGIN:VEVENT
DTSTART;TZID=America/Whitehorse:20240629T080000
DTEND;TZID=America/Whitehorse:20240629T103000
DTSTAMP:20260419T132541
CREATED:20240227T232056Z
LAST-MODIFIED:20240227T232056Z
UID:10000053-1719648000-1719657000@yukonhost.com
SUMMARY:WHITE PASS SUMMIT EXCURSION
DESCRIPTION:
URL:https://yukonhost.com/event/white-pass-summit-excursion/2024-06-29/
LOCATION:Skagway depot\, 201 2nd Avenue\, Skagway\, AK\, 99840\, United States
END:VEVENT
BEGIN:VEVENT
DTSTART;TZID=America/Whitehorse:20240628T080000
DTEND;TZID=America/Whitehorse:20240628T103000
DTSTAMP:20260419T132541
CREATED:20240227T232056Z
LAST-MODIFIED:20240227T232056Z
UID:10000052-1719561600-1719570600@yukonhost.com
SUMMARY:WHITE PASS SUMMIT EXCURSION
DESCRIPTION:
URL:https://yukonhost.com/event/white-pass-summit-excursion/2024-06-28/
LOCATION:Skagway depot\, 201 2nd Avenue\, Skagway\, AK\, 99840\, United States
END:VEVENT
BEGIN:VEVENT
DTSTART;TZID=America/Whitehorse:20240627T080000
DTEND;TZID=America/Whitehorse:20240627T103000
DTSTAMP:20260419T132541
CREATED:20240227T232056Z
LAST-MODIFIED:20240227T232056Z
UID:10000051-1719475200-1719484200@yukonhost.com
SUMMARY:WHITE PASS SUMMIT EXCURSION
DESCRIPTION:
URL:https://yukonhost.com/event/white-pass-summit-excursion/2024-06-27/
LOCATION:Skagway depot\, 201 2nd Avenue\, Skagway\, AK\, 99840\, United States
END:VEVENT
BEGIN:VEVENT
DTSTART;TZID=America/Whitehorse:20240626T080000
DTEND;TZID=America/Whitehorse:20240626T103000
DTSTAMP:20260419T132541
CREATED:20240227T232056Z
LAST-MODIFIED:20240227T232056Z
UID:10000050-1719388800-1719397800@yukonhost.com
SUMMARY:WHITE PASS SUMMIT EXCURSION
DESCRIPTION:
URL:https://yukonhost.com/event/white-pass-summit-excursion/2024-06-26/
LOCATION:Skagway depot\, 201 2nd Avenue\, Skagway\, AK\, 99840\, United States
END:VEVENT
BEGIN:VEVENT
DTSTART;TZID=America/Whitehorse:20240625T080000
DTEND;TZID=America/Whitehorse:20240625T103000
DTSTAMP:20260419T132541
CREATED:20240227T232056Z
LAST-MODIFIED:20240227T232056Z
UID:10000049-1719302400-1719311400@yukonhost.com
SUMMARY:WHITE PASS SUMMIT EXCURSION
DESCRIPTION:
URL:https://yukonhost.com/event/white-pass-summit-excursion/2024-06-25/
LOCATION:Skagway depot\, 201 2nd Avenue\, Skagway\, AK\, 99840\, United States
END:VEVENT
BEGIN:VEVENT
DTSTART;TZID=America/Whitehorse:20240624T080000
DTEND;TZID=America/Whitehorse:20240624T103000
DTSTAMP:20260419T132541
CREATED:20240227T232056Z
LAST-MODIFIED:20240227T232056Z
UID:10000048-1719216000-1719225000@yukonhost.com
SUMMARY:WHITE PASS SUMMIT EXCURSION
DESCRIPTION:
URL:https://yukonhost.com/event/white-pass-summit-excursion/2024-06-24/
LOCATION:Skagway depot\, 201 2nd Avenue\, Skagway\, AK\, 99840\, United States
END:VEVENT
BEGIN:VEVENT
DTSTART;TZID=America/Whitehorse:20240623T080000
DTEND;TZID=America/Whitehorse:20240623T103000
DTSTAMP:20260419T132541
CREATED:20240227T232056Z
LAST-MODIFIED:20240227T232056Z
UID:10000047-1719129600-1719138600@yukonhost.com
SUMMARY:WHITE PASS SUMMIT EXCURSION
DESCRIPTION:
URL:https://yukonhost.com/event/white-pass-summit-excursion/2024-06-23/
LOCATION:Skagway depot\, 201 2nd Avenue\, Skagway\, AK\, 99840\, United States
END:VEVENT
BEGIN:VEVENT
DTSTART;TZID=America/Whitehorse:20240622T080000
DTEND;TZID=America/Whitehorse:20240622T103000
DTSTAMP:20260419T132541
CREATED:20240227T232056Z
LAST-MODIFIED:20240227T232056Z
UID:10000046-1719043200-1719052200@yukonhost.com
SUMMARY:WHITE PASS SUMMIT EXCURSION
DESCRIPTION:
URL:https://yukonhost.com/event/white-pass-summit-excursion/2024-06-22/
LOCATION:Skagway depot\, 201 2nd Avenue\, Skagway\, AK\, 99840\, United States
END:VEVENT
BEGIN:VEVENT
DTSTART;TZID=America/Whitehorse:20240621T080000
DTEND;TZID=America/Whitehorse:20240621T103000
DTSTAMP:20260419T132541
CREATED:20240227T232056Z
LAST-MODIFIED:20240227T232056Z
UID:10000045-1718956800-1718965800@yukonhost.com
SUMMARY:WHITE PASS SUMMIT EXCURSION
DESCRIPTION:
URL:https://yukonhost.com/event/white-pass-summit-excursion/2024-06-21/
LOCATION:Skagway depot\, 201 2nd Avenue\, Skagway\, AK\, 99840\, United States
END:VEVENT
BEGIN:VEVENT
DTSTART;TZID=America/Whitehorse:20240620T080000
DTEND;TZID=America/Whitehorse:20240620T103000
DTSTAMP:20260419T132541
CREATED:20240227T232056Z
LAST-MODIFIED:20240227T232056Z
UID:10000044-1718870400-1718879400@yukonhost.com
SUMMARY:WHITE PASS SUMMIT EXCURSION
DESCRIPTION:
URL:https://yukonhost.com/event/white-pass-summit-excursion/2024-06-20/
LOCATION:Skagway depot\, 201 2nd Avenue\, Skagway\, AK\, 99840\, United States
END:VEVENT
BEGIN:VEVENT
DTSTART;TZID=America/Whitehorse:20240619T080000
DTEND;TZID=America/Whitehorse:20240619T103000
DTSTAMP:20260419T132541
CREATED:20240227T232056Z
LAST-MODIFIED:20240227T232056Z
UID:10000043-1718784000-1718793000@yukonhost.com
SUMMARY:WHITE PASS SUMMIT EXCURSION
DESCRIPTION:
URL:https://yukonhost.com/event/white-pass-summit-excursion/2024-06-19/
LOCATION:Skagway depot\, 201 2nd Avenue\, Skagway\, AK\, 99840\, United States
END:VEVENT
BEGIN:VEVENT
DTSTART;TZID=America/Whitehorse:20240618T080000
DTEND;TZID=America/Whitehorse:20240618T103000
DTSTAMP:20260419T132541
CREATED:20240227T232056Z
LAST-MODIFIED:20240227T232056Z
UID:10000042-1718697600-1718706600@yukonhost.com
SUMMARY:WHITE PASS SUMMIT EXCURSION
DESCRIPTION:
URL:https://yukonhost.com/event/white-pass-summit-excursion/2024-06-18/
LOCATION:Skagway depot\, 201 2nd Avenue\, Skagway\, AK\, 99840\, United States
END:VEVENT
BEGIN:VEVENT
DTSTART;TZID=America/Whitehorse:20240617T080000
DTEND;TZID=America/Whitehorse:20240617T103000
DTSTAMP:20260419T132541
CREATED:20240227T232056Z
LAST-MODIFIED:20240227T232056Z
UID:10000041-1718611200-1718620200@yukonhost.com
SUMMARY:WHITE PASS SUMMIT EXCURSION
DESCRIPTION:
URL:https://yukonhost.com/event/white-pass-summit-excursion/2024-06-17/
LOCATION:Skagway depot\, 201 2nd Avenue\, Skagway\, AK\, 99840\, United States
END:VEVENT
BEGIN:VEVENT
DTSTART;TZID=America/Whitehorse:20240616T080000
DTEND;TZID=America/Whitehorse:20240616T103000
DTSTAMP:20260419T132541
CREATED:20240227T232056Z
LAST-MODIFIED:20240227T232056Z
UID:10000040-1718524800-1718533800@yukonhost.com
SUMMARY:WHITE PASS SUMMIT EXCURSION
DESCRIPTION:
URL:https://yukonhost.com/event/white-pass-summit-excursion/2024-06-16/
LOCATION:Skagway depot\, 201 2nd Avenue\, Skagway\, AK\, 99840\, United States
END:VEVENT
BEGIN:VEVENT
DTSTART;TZID=America/Whitehorse:20240615T080000
DTEND;TZID=America/Whitehorse:20240615T103000
DTSTAMP:20260419T132541
CREATED:20240227T232056Z
LAST-MODIFIED:20240227T232056Z
UID:10000039-1718438400-1718447400@yukonhost.com
SUMMARY:WHITE PASS SUMMIT EXCURSION
DESCRIPTION:
URL:https://yukonhost.com/event/white-pass-summit-excursion/2024-06-15/
LOCATION:Skagway depot\, 201 2nd Avenue\, Skagway\, AK\, 99840\, United States
END:VEVENT
BEGIN:VEVENT
DTSTART;TZID=America/Whitehorse:20240614T080000
DTEND;TZID=America/Whitehorse:20240614T103000
DTSTAMP:20260419T132541
CREATED:20240227T232056Z
LAST-MODIFIED:20240227T232056Z
UID:10000038-1718352000-1718361000@yukonhost.com
SUMMARY:WHITE PASS SUMMIT EXCURSION
DESCRIPTION:
URL:https://yukonhost.com/event/white-pass-summit-excursion/2024-06-14/
LOCATION:Skagway depot\, 201 2nd Avenue\, Skagway\, AK\, 99840\, United States
END:VEVENT
BEGIN:VEVENT
DTSTART;TZID=America/Whitehorse:20240613T080000
DTEND;TZID=America/Whitehorse:20240613T103000
DTSTAMP:20260419T132541
CREATED:20240227T232056Z
LAST-MODIFIED:20240227T232056Z
UID:10000037-1718265600-1718274600@yukonhost.com
SUMMARY:WHITE PASS SUMMIT EXCURSION
DESCRIPTION:
URL:https://yukonhost.com/event/white-pass-summit-excursion/2024-06-13/
LOCATION:Skagway depot\, 201 2nd Avenue\, Skagway\, AK\, 99840\, United States
END:VEVENT
END:VCALENDAR